BEGIN:VCALENDAR
VERSION:2.0
PRODID:-//Heimatverein Boxdorf - ECPv6.15.20//NONSGML v1.0//EN
CALSCALE:GREGORIAN
METHOD:PUBLISH
X-WR-CALNAME:Heimatverein Boxdorf
X-ORIGINAL-URL:https://boxdorf.net
X-WR-CALDESC:Veranstaltungen für Heimatverein Boxdorf
REFRESH-INTERVAL;VALUE=DURATION:PT1H
X-Robots-Tag:noindex
X-PUBLISHED-TTL:PT1H
BEGIN:VTIMEZONE
TZID:Europe/Berlin
BEGIN:DAYLIGHT
TZOFFSETFROM:+0100
TZOFFSETTO:+0200
TZNAME:CEST
DTSTART:20250330T010000
END:DAYLIGHT
BEGIN:STANDARD
TZOFFSETFROM:+0200
TZOFFSETTO:+0100
TZNAME:CET
DTSTART:20251026T010000
END:STANDARD
BEGIN:DAYLIGHT
TZOFFSETFROM:+0100
TZOFFSETTO:+0200
TZNAME:CEST
DTSTART:20260329T010000
END:DAYLIGHT
BEGIN:STANDARD
TZOFFSETFROM:+0200
TZOFFSETTO:+0100
TZNAME:CET
DTSTART:20261025T010000
END:STANDARD
BEGIN:DAYLIGHT
TZOFFSETFROM:+0100
TZOFFSETTO:+0200
TZNAME:CEST
DTSTART:20270328T010000
END:DAYLIGHT
BEGIN:STANDARD
TZOFFSETFROM:+0200
TZOFFSETTO:+0100
TZNAME:CET
DTSTART:20271031T010000
END:STANDARD
END:VTIMEZONE
BEGIN:VEVENT
DTSTART;TZID=Europe/Berlin:20260422T180000
DTEND;TZID=Europe/Berlin:20260422T200000
DTSTAMP:20260422T160532
CREATED:20260109T155122Z
LAST-MODIFIED:20260416T122327Z
UID:3060-1776880800-1776888000@boxdorf.net
SUMMARY:Stammtisch April 2026
DESCRIPTION:Bildrechte bei Mario Sempf \nHeute treffen wir uns zu einer Stadtführung in Dresden. Thema: Dresden zum Gruseln. Das Programm kann hier nachgelesen werden. Treffpunkt für uns ist der Postplatz\, nahe der Ruine Sophienkirche. Der “Leibwächter” ist an Kleidung und Holztruhe leicht zu erkennen. Anschließend gehen wir in den Augustiner. Leider nur auf Anmeldung: \nEine zweite Gruppe besucht TimeRide Dresden. Hier ist die Anmeldung bereits abgeschlossen. \nFür beide Veranstaltungen ist der Treffpunkt wie oben um 17:45 Uhr.
URL:https://boxdorf.net/event/stammtisch-april-2026/
LOCATION:Dresden\, Goldener Reiter\, Dresden
CATEGORIES:Stammtisch
ATTACH;FMTTYPE=image/png:https://boxdorf.net/wp-content/uploads/2026/01/Stammtischbild.png
ORGANIZER;CN="Heimatverein Boxdorf":MAILTO:heimatverein@boxdorf.net
END:VEVENT
END:VCALENDAR